{
 "currentVersion": 10.91,
 "serviceDescription": "This Digital Terrain Model (DTM) Hillshade data was produced all or in part from LiDAR information as of 2012. The LiDAR derived DTM covers Mclean County, Illinois and include inland streams, rivers, lakes ponds and tidal features. These data are appropriate for use in local and regional analysis.\n\nDigital Elevation Models (including terrain and surface models) are raster data sets created from whole LiDAR point cloud data sets (LAS files). The LAS files are the standard LiDAR file format which contains the raw point cloud data, these data are normally classified and distinguished between points on the ground, water or elevated features such as buildings, trees, towers, bridges, etc.. These LAS files are processed into elevation models to create gridded rasters. The first returns can be used to map the top reflective surface (Digital Surface Models - DSM), these normally include open terrain areas, as well as the tops of buildings, trees, towers, and other features elevated above the bare earth. The last returns are used to map the bare-earth terrain (Digital Terrain Models - DTM), these are normally produced with irregularly-spaced points rather than the uniform grid structure of a Digital Elevation Model (DEM), Digital Terrain Models will often include breaklines to help define edges of water bodies.",
 "name": "Reference/mclean_dtm_hil",
 "description": "This Digital Terrain Model (DTM) Hillshade data was produced all or in part from LiDAR information as of 2012. The LiDAR derived DTM covers Mclean County, Illinois and include inland streams, rivers, lakes ponds and tidal features. These data are appropriate for use in local and regional analysis.\n\nDigital Elevation Models (including terrain and surface models) are raster data sets created from whole LiDAR point cloud data sets (LAS files). The LAS files are the standard LiDAR file format which contains the raw point cloud data, these data are normally classified and distinguished between points on the ground, water or elevated features such as buildings, trees, towers, bridges, etc.. These LAS files are processed into elevation models to create gridded rasters. The first returns can be used to map the top reflective surface (Digital Surface Models - DSM), these normally include open terrain areas, as well as the tops of buildings, trees, towers, and other features elevated above the bare earth. The last returns are used to map the bare-earth terrain (Digital Terrain Models - DTM), these are normally produced with irregularly-spaced points rather than the uniform grid structure of a Digital Elevation Model (DEM), Digital Terrain Models will often include breaklines to help define edges of water bodies.",
 "extent": {
  "xmin": 722000.0000464134,
  "ymin": 1313999.9999829084,
  "xmax": 952000.0000464134,
  "ymax": 1491999.9999829084,
  "spatialReference": {
   "wkt": "PROJCS[\"NAD_1983_HARN_StatePlane_Illinois_East_FIPS_1201_Feet\",GEOGCS[\"GCS_North_American_1983_HARN\",DATUM[\"D_North_American_1983_HARN\",SPHEROID[\"GRS_1980\",6378137.0,298.257222101]],PRIMEM[\"Greenwich\",0.0],UNIT[\"Degree\",0.0174532925199433]],PROJECTION[\"Transverse_Mercator\"],PARAMETER[\"False_Easting\",984250.0],PARAMETER[\"False_Northing\",0.0],PARAMETER[\"Central_Meridian\",-88.33333333333333],PARAMETER[\"Scale_Factor\",0.999975],PARAMETER[\"Latitude_Of_Origin\",36.66666666666666],UNIT[\"Foot_US\",0.3048006096012192]],VERTCS[\"NAVD_1988\",VDATUM[\"North_American_Vertical_Datum_1988\"],PARAMETER[\"Vertical_Shift\",0.0],PARAMETER[\"Direction\",1.0],UNIT[\"Foot_US\",0.3048006096012192]]"
  }
 },
 "initialExtent": {
  "xmin": 722000.0000464134,
  "ymin": 1313999.9999829084,
  "xmax": 952000.0000464134,
  "ymax": 1491999.9999829084,
  "spatialReference": {
   "wkt": "PROJCS[\"NAD_1983_HARN_StatePlane_Illinois_East_FIPS_1201_Feet\",GEOGCS[\"GCS_North_American_1983_HARN\",DATUM[\"D_North_American_1983_HARN\",SPHEROID[\"GRS_1980\",6378137.0,298.257222101]],PRIMEM[\"Greenwich\",0.0],UNIT[\"Degree\",0.0174532925199433]],PROJECTION[\"Transverse_Mercator\"],PARAMETER[\"False_Easting\",984250.0],PARAMETER[\"False_Northing\",0.0],PARAMETER[\"Central_Meridian\",-88.33333333333333],PARAMETER[\"Scale_Factor\",0.999975],PARAMETER[\"Latitude_Of_Origin\",36.66666666666666],UNIT[\"Foot_US\",0.3048006096012192]],VERTCS[\"NAVD_1988\",VDATUM[\"North_American_Vertical_Datum_1988\"],PARAMETER[\"Vertical_Shift\",0.0],PARAMETER[\"Direction\",1.0],UNIT[\"Foot_US\",0.3048006096012192]]"
  }
 },
 "fullExtent": {
  "xmin": 722000.0000464134,
  "ymin": 1313999.9999829084,
  "xmax": 952000.0000464134,
  "ymax": 1491999.9999829084,
  "spatialReference": {
   "wkt": "PROJCS[\"NAD_1983_HARN_StatePlane_Illinois_East_FIPS_1201_Feet\",GEOGCS[\"GCS_North_American_1983_HARN\",DATUM[\"D_North_American_1983_HARN\",SPHEROID[\"GRS_1980\",6378137.0,298.257222101]],PRIMEM[\"Greenwich\",0.0],UNIT[\"Degree\",0.0174532925199433]],PROJECTION[\"Transverse_Mercator\"],PARAMETER[\"False_Easting\",984250.0],PARAMETER[\"False_Northing\",0.0],PARAMETER[\"Central_Meridian\",-88.33333333333333],PARAMETER[\"Scale_Factor\",0.999975],PARAMETER[\"Latitude_Of_Origin\",36.66666666666666],UNIT[\"Foot_US\",0.3048006096012192]],VERTCS[\"NAVD_1988\",VDATUM[\"North_American_Vertical_Datum_1988\"],PARAMETER[\"Vertical_Shift\",0.0],PARAMETER[\"Direction\",1.0],UNIT[\"Foot_US\",0.3048006096012192]]"
  }
 },
 "heightModelInfo": {
  "heightModel": "gravity_related_height",
  "vertCRS": "NAVD_1988",
  "heightUnit": "us-foot"
 },
 "pixelSizeX": 2.5,
 "pixelSizeY": 2.5,
 "bandCount": 1,
 "pixelType": "U8",
 "minPixelSize": 0,
 "maxPixelSize": 0,
 "copyrightText": "",
 "serviceDataType": "esriImageServiceDataTypeGeneric",
 "minValues": [
  0
 ],
 "maxValues": [
  254
 ],
 "meanValues": [
  179.54143344670192
 ],
 "stdvValues": [
  7.63875752591717
 ],
 "objectIdField": "",
 "fields": [],
 "capabilities": "Mensuration,Image,Metadata",
 "defaultMosaicMethod": "Center",
 "allowedMosaicMethods": "",
 "sortField": "",
 "sortValue": null,
 "sortAscending": true,
 "mosaicOperator": "First",
 "defaultCompressionQuality": 75,
 "defaultResamplingMethod": "Bilinear",
 "maxImageHeight": 4100,
 "maxImageWidth": 15000,
 "allowRasterFunction": true,
 "rasterFunctionInfos": [
  {
   "name": "None",
   "description": "",
   "help": ""
  }
 ],
 "rasterTypeInfos": [
  {
   "name": "Raster Dataset",
   "description": "Supports all ArcGIS Raster Datasets",
   "help": ""
  }
 ],
 "mensurationCapabilities": "Basic",
 "hasHistograms": false,
 "hasColormap": false,
 "hasRasterAttributeTable": true,
 "minScale": 0,
 "maxScale": 0,
 "exportTilesAllowed": false,
 "hasMultidimensions": false,
 "supportsStatistics": false,
 "supportsAdvancedQueries": false,
 "editFieldsInfo": null,
 "ownershipBasedAccessControlForRasters": null,
 "allowComputeTiePoints": false,
 "useStandardizedQueries": true,
 "advancedQueryCapabilities": {
  "useStandardizedQueries": true,
  "supportsStatistics": false,
  "supportsOrderBy": false,
  "supportsDistinct": false,
  "supportsPagination": false
 },
 "spatialReference": {
  "wkt": "PROJCS[\"NAD_1983_HARN_StatePlane_Illinois_East_FIPS_1201_Feet\",GEOGCS[\"GCS_North_American_1983_HARN\",DATUM[\"D_North_American_1983_HARN\",SPHEROID[\"GRS_1980\",6378137.0,298.257222101]],PRIMEM[\"Greenwich\",0.0],UNIT[\"Degree\",0.0174532925199433]],PROJECTION[\"Transverse_Mercator\"],PARAMETER[\"False_Easting\",984250.0],PARAMETER[\"False_Northing\",0.0],PARAMETER[\"Central_Meridian\",-88.33333333333333],PARAMETER[\"Scale_Factor\",0.999975],PARAMETER[\"Latitude_Of_Origin\",36.66666666666666],UNIT[\"Foot_US\",0.3048006096012192]],VERTCS[\"NAVD_1988\",VDATUM[\"North_American_Vertical_Datum_1988\"],PARAMETER[\"Vertical_Shift\",0.0],PARAMETER[\"Direction\",1.0],UNIT[\"Foot_US\",0.3048006096012192]]"
 }
}
